Package: PathoStat Version: 1.35.0 Command: /home/biocbuild/bbs-3.22-bioc/R/bin/R CMD check --install=check:PathoStat.install-out.txt --library=/home/biocbuild/bbs-3.22-bioc/R/site-library --timings PathoStat_1.35.0.tar.gz StartedAt: 2025-10-20 03:06:59 -0400 (Mon, 20 Oct 2025) EndedAt: 2025-10-20 03:12:10 -0400 (Mon, 20 Oct 2025) EllapsedTime: 311.2 seconds RetCode: 0 Status: OK CheckDir: PathoStat.Rcheck Warnings: 0