Package: PathoStat Version: 1.35.0 Command: /home/biocbuild/bbs-3.22-bioc/R/bin/R CMD build --keep-empty-dirs --no-resave-data --md5 PathoStat StartedAt: 2025-10-19 19:13:47 -0400 (Sun, 19 Oct 2025) EndedAt: 2025-10-19 19:14:26 -0400 (Sun, 19 Oct 2025) EllapsedTime: 39.0 seconds RetCode: 0 Status: OK PackageFile: PathoStat_1.35.0.tar.gz PackageFileSize: 951.6 KiB