Package: PathoStat Version: 1.35.0 Command: /Library/Frameworks/R.framework/Resources/bin/R CMD check --install=check:PathoStat.install-out.txt --library=/Library/Frameworks/R.framework/Resources/library --no-vignettes --timings PathoStat_1.35.0.tar.gz StartedAt: 2025-10-20 00:35:14 -0400 (Mon, 20 Oct 2025) EndedAt: 2025-10-20 00:41:02 -0400 (Mon, 20 Oct 2025) EllapsedTime: 348.3 seconds RetCode: 0 Status: OK CheckDir: PathoStat.Rcheck Warnings: 0