Package: PathoStat Version: 1.35.0 Command: rm -rf PathoStat.buildbin-libdir && mkdir PathoStat.buildbin-libdir && /Users/biocbuild/BBS/utils/build-universal.sh PathoStat_1.35.0.tar.gz /Library/Frameworks/R.framework/Resources/bin/R PathoStat.buildbin-libdir StartedAt: 2025-10-20 03:24:30 -0400 (Mon, 20 Oct 2025) EndedAt: 2025-10-20 03:25:24 -0400 (Mon, 20 Oct 2025) EllapsedTime: 53.5 seconds RetCode: 0 Status: OK PackageFile: PathoStat_1.35.0.tgz PackageFileSize: 1.047 MiB