Package: PathoStat Version: 1.35.0 Command: /Library/Frameworks/R.framework/Resources/bin/R CMD check --install=check:PathoStat.install-out.txt --library=/Library/Frameworks/R.framework/Resources/library --no-vignettes --timings PathoStat_1.35.0.tar.gz StartedAt: 2025-10-17 21:20:05 -0400 (Fri, 17 Oct 2025) EndedAt: 2025-10-17 21:21:51 -0400 (Fri, 17 Oct 2025) EllapsedTime: 106.2 seconds RetCode: 0 Status: OK CheckDir: PathoStat.Rcheck Warnings: 0