Package: Path2PPI Version: 1.39.0 Command: /Library/Frameworks/R.framework/Resources/bin/R CMD check --install=check:Path2PPI.install-out.txt --library=/Library/Frameworks/R.framework/Resources/library --no-vignettes --timings Path2PPI_1.39.0.tar.gz StartedAt: 2025-10-19 21:12:14 -0400 (Sun, 19 Oct 2025) EndedAt: 2025-10-19 21:12:34 -0400 (Sun, 19 Oct 2025) EllapsedTime: 20.3 seconds RetCode: 0 Status: OK CheckDir: Path2PPI.Rcheck Warnings: 0