Package: PWMEnrich Version: 4.45.0 Command: F:\biocbuild\bbs-3.22-bioc\R\bin\R.exe CMD check --no-multiarch --install=check:PWMEnrich.install-out.txt --library=F:\biocbuild\bbs-3.22-bioc\R\library --no-vignettes --timings PWMEnrich_4.45.0.tar.gz StartedAt: 2025-08-15 06:41:47 -0400 (Fri, 15 Aug 2025) EndedAt: 2025-08-15 06:43:56 -0400 (Fri, 15 Aug 2025) EllapsedTime: 129.0 seconds RetCode: 0 Status: OK CheckDir: PWMEnrich.Rcheck Warnings: 0