Package: PSMatch Version: 1.13.2 Command: /home/biocbuild/R/R/bin/R CMD check --install=check:PSMatch.install-out.txt --library=/home/biocbuild/R/R/site-library --no-vignettes --timings PSMatch_1.13.2.tar.gz StartedAt: 2025-10-17 12:25:57 -0000 (Fri, 17 Oct 2025) EndedAt: 2025-10-17 12:31:34 -0000 (Fri, 17 Oct 2025) EllapsedTime: 336.4 seconds RetCode: 0 Status: OK CheckDir: PSMatch.Rcheck Warnings: 0