Package: PSMatch Version: 1.13.2 Command: chmod a+r PSMatch -R && F:\biocbuild\bbs-3.22-bioc\R\bin\R.exe CMD build --keep-empty-dirs --no-resave-data PSMatch StartedAt: 2025-08-14 22:29:29 -0400 (Thu, 14 Aug 2025) EndedAt: 2025-08-14 22:40:01 -0400 (Thu, 14 Aug 2025) EllapsedTime: 632.0 seconds RetCode: 0 Status: OK PackageFile: PSMatch_1.13.2.tar.gz PackageFileSize: 1.189 MiB