Package: PSMatch Version: 1.13.2 Command: /Library/Frameworks/R.framework/Resources/bin/R CMD check --install=check:PSMatch.install-out.txt --library=/Library/Frameworks/R.framework/Resources/library --no-vignettes --timings PSMatch_1.13.2.tar.gz StartedAt: 2025-10-21 21:27:30 -0400 (Tue, 21 Oct 2025) EndedAt: 2025-10-21 21:29:11 -0400 (Tue, 21 Oct 2025) EllapsedTime: 101.2 seconds RetCode: 0 Status: OK CheckDir: PSMatch.Rcheck Warnings: 0