Package: PSMatch Version: 1.13.2 Command: rm -rf PSMatch.buildbin-libdir && mkdir PSMatch.buildbin-libdir && /Users/biocbuild/BBS/utils/build-universal.sh PSMatch_1.13.2.tar.gz /Library/Frameworks/R.framework/Resources/bin/R PSMatch.buildbin-libdir StartedAt: 2025-10-21 23:12:56 -0400 (Tue, 21 Oct 2025) EndedAt: 2025-10-21 23:13:09 -0400 (Tue, 21 Oct 2025) EllapsedTime: 13.2 seconds RetCode: 0 Status: OK PackageFile: PSMatch_1.13.2.tgz PackageFileSize: 2.086 MiB