Package: PROcess Version: 1.85.0 Command: /Library/Frameworks/R.framework/Resources/bin/R CMD check --install=check:PROcess.install-out.txt --library=/Library/Frameworks/R.framework/Resources/library --no-vignettes --timings PROcess_1.85.0.tar.gz StartedAt: 2025-10-17 21:30:10 -0400 (Fri, 17 Oct 2025) EndedAt: 2025-10-17 21:30:29 -0400 (Fri, 17 Oct 2025) EllapsedTime: 19.2 seconds RetCode: 0 Status: OK CheckDir: PROcess.Rcheck Warnings: 0