Package: PROPS Version: 1.31.0 Command: rm -rf PROPS.buildbin-libdir && mkdir PROPS.buildbin-libdir && F:\biocbuild\bbs-3.22-bioc\R\bin\R.exe CMD INSTALL --build --library=PROPS.buildbin-libdir PROPS_1.31.0.tar.gz StartedAt: 2025-08-15 11:00:24 -0400 (Fri, 15 Aug 2025) EndedAt: 2025-08-15 11:00:48 -0400 (Fri, 15 Aug 2025) EllapsedTime: 23.9 seconds RetCode: 0 Status: OK PackageFile: PROPS_1.31.0.zip PackageFileSize: 3.606 MiB