Package: PRONE Version: 1.3.2 Command: /home/biocbuild/R/R/bin/R CMD INSTALL PRONE StartedAt: 2025-10-16 22:24:46 -0000 (Thu, 16 Oct 2025) EndedAt: 2025-10-16 22:25:42 -0000 (Thu, 16 Oct 2025) EllapsedTime: 55.7 seconds RetCode: 0 Status: OK