Package: PRONE Version: 1.3.1 Command: rm -rf PRONE.buildbin-libdir && mkdir PRONE.buildbin-libdir && F:\biocbuild\bbs-3.22-bioc\R\bin\R.exe CMD INSTALL --build --library=PRONE.buildbin-libdir PRONE_1.3.1.tar.gz StartedAt: 2025-08-15 11:00:20 -0400 (Fri, 15 Aug 2025) EndedAt: 2025-08-15 11:01:38 -0400 (Fri, 15 Aug 2025) EllapsedTime: 78.1 seconds RetCode: 0 Status: OK PackageFile: PRONE_1.3.1.zip PackageFileSize: 6.653 MiB