Package: PRONE Version: 1.3.2 Command: /home/biocbuild/bbs-3.22-bioc/R/bin/R CMD INSTALL PRONE StartedAt: 2025-10-19 16:00:14 -0400 (Sun, 19 Oct 2025) EndedAt: 2025-10-19 16:00:56 -0400 (Sun, 19 Oct 2025) EllapsedTime: 42.0 seconds RetCode: 0 Status: OK