Package: PRONE Version: 1.3.2 Command: /home/biocbuild/bbs-3.22-bioc/R/bin/R CMD build --keep-empty-dirs --no-resave-data --md5 PRONE StartedAt: 2025-10-19 19:23:35 -0400 (Sun, 19 Oct 2025) EndedAt: 2025-10-19 19:25:31 -0400 (Sun, 19 Oct 2025) EllapsedTime: 116.1 seconds RetCode: 0 Status: OK PackageFile: PRONE_1.3.2.tar.gz PackageFileSize: 9.066 MiB