Package: PRONE Version: 1.3.2 Command: /Library/Frameworks/R.framework/Resources/bin/R CMD INSTALL PRONE StartedAt: 2025-10-19 15:50:14 -0400 (Sun, 19 Oct 2025) EndedAt: 2025-10-19 15:51:11 -0400 (Sun, 19 Oct 2025) EllapsedTime: 57.0 seconds RetCode: 0 Status: OK