Package: PRONE Version: 1.3.2 Command: /Library/Frameworks/R.framework/Resources/bin/R CMD check --install=check:PRONE.install-out.txt --library=/Library/Frameworks/R.framework/Resources/library --no-vignettes --timings PRONE_1.3.2.tar.gz StartedAt: 2025-10-20 00:50:29 -0400 (Mon, 20 Oct 2025) EndedAt: 2025-10-20 00:56:48 -0400 (Mon, 20 Oct 2025) EllapsedTime: 379.4 seconds RetCode: 0 Status: OK CheckDir: PRONE.Rcheck Warnings: 0