Package: PRONE Version: 1.3.2 Command: rm -rf PRONE.buildbin-libdir && mkdir PRONE.buildbin-libdir && /Users/biocbuild/BBS/utils/build-universal.sh PRONE_1.3.2.tar.gz /Library/Frameworks/R.framework/Resources/bin/R PRONE.buildbin-libdir StartedAt: 2025-10-20 03:26:12 -0400 (Mon, 20 Oct 2025) EndedAt: 2025-10-20 03:27:16 -0400 (Mon, 20 Oct 2025) EllapsedTime: 63.7 seconds RetCode: 0 Status: OK PackageFile: PRONE_1.3.2.tgz PackageFileSize: 10.37 MiB