Package: PRONE Version: 1.3.2 Command: /Library/Frameworks/R.framework/Resources/bin/R CMD build --keep-empty-dirs --no-resave-data PRONE StartedAt: 2025-10-19 17:21:33 -0400 (Sun, 19 Oct 2025) EndedAt: 2025-10-19 17:22:20 -0400 (Sun, 19 Oct 2025) EllapsedTime: 46.5 seconds RetCode: 0 Status: OK PackageFile: PRONE_1.3.2.tar.gz PackageFileSize: 10.05 MiB