Package: PRONE Version: 1.3.2 Maintainer: Lis Arend MaintainerEmail: lis.arend at tum.de git_url: https://git.bioconductor.org/packages/PRONE git_branch: devel git_last_commit: a875b50 git_last_commit_date: 2025-09-25 06:07:44 -0400 (Thu, 25 Sep 2025)