Package: PPInfer Version: 1.35.0 Command: /home/biocbuild/bbs-3.22-bioc/R/bin/R CMD INSTALL PPInfer StartedAt: 2025-10-19 15:32:33 -0400 (Sun, 19 Oct 2025) EndedAt: 2025-10-19 15:32:57 -0400 (Sun, 19 Oct 2025) EllapsedTime: 23.9 seconds RetCode: 0 Status: OK