Package: PPInfer Version: 1.35.0 Command: /home/biocbuild/bbs-3.22-bioc/R/bin/R CMD build --keep-empty-dirs --no-resave-data --md5 PPInfer StartedAt: 2025-10-19 19:20:55 -0400 (Sun, 19 Oct 2025) EndedAt: 2025-10-19 19:21:49 -0400 (Sun, 19 Oct 2025) EllapsedTime: 54.0 seconds RetCode: 0 Status: OK PackageFile: PPInfer_1.35.0.tar.gz PackageFileSize: 327.7 KiB