Package: PPInfer Version: 1.35.0 Command: /Library/Frameworks/R.framework/Resources/bin/R CMD INSTALL PPInfer StartedAt: 2025-10-22 15:28:42 -0400 (Wed, 22 Oct 2025) EndedAt: 2025-10-22 15:29:12 -0400 (Wed, 22 Oct 2025) EllapsedTime: 30.1 seconds RetCode: 0 Status: OK