Package: PPInfer Version: 1.35.0 Command: /Library/Frameworks/R.framework/Resources/bin/R CMD build --keep-empty-dirs --no-resave-data PPInfer StartedAt: 2025-10-22 18:12:09 -0400 (Wed, 22 Oct 2025) EndedAt: 2025-10-22 18:14:40 -0400 (Wed, 22 Oct 2025) EllapsedTime: 150.5 seconds RetCode: 0 Status: OK PackageFile: PPInfer_1.35.0.tar.gz PackageFileSize: 324.4 KiB