Package: PPInfer Version: 1.35.0 Command: /Library/Frameworks/R.framework/Resources/bin/R CMD INSTALL PPInfer StartedAt: 2025-10-20 15:09:57 -0400 (Mon, 20 Oct 2025) EndedAt: 2025-10-20 15:10:09 -0400 (Mon, 20 Oct 2025) EllapsedTime: 11.6 seconds RetCode: 0 Status: OK