Package: POMA Version: 1.19.0 Command: /home/biocbuild/bbs-3.22-bioc/R/bin/R CMD INSTALL POMA StartedAt: 2025-10-19 16:00:10 -0400 (Sun, 19 Oct 2025) EndedAt: 2025-10-19 16:00:14 -0400 (Sun, 19 Oct 2025) EllapsedTime: 4.0 seconds RetCode: 0 Status: OK