Package: POMA Version: 1.19.0 Command: /home/biocbuild/bbs-3.22-bioc/R/bin/R CMD build --keep-empty-dirs --no-resave-data --md5 POMA StartedAt: 2025-10-19 19:20:29 -0400 (Sun, 19 Oct 2025) EndedAt: 2025-10-19 19:21:06 -0400 (Sun, 19 Oct 2025) EllapsedTime: 37.0 seconds RetCode: 0 Status: OK PackageFile: POMA_1.19.0.tar.gz PackageFileSize: 2.148 MiB