Package: POMA Version: 1.19.0 Command: /Library/Frameworks/R.framework/Resources/bin/R CMD check --install=check:POMA.install-out.txt --library=/Library/Frameworks/R.framework/Resources/library --no-vignettes --timings POMA_1.19.0.tar.gz StartedAt: 2025-10-20 00:46:26 -0400 (Mon, 20 Oct 2025) EndedAt: 2025-10-20 00:52:41 -0400 (Mon, 20 Oct 2025) EllapsedTime: 374.5 seconds RetCode: 0 Status: OK CheckDir: POMA.Rcheck Warnings: 0