Package: POMA Version: 1.20.0 Command: /Library/Frameworks/R.framework/Resources/bin/R CMD build --keep-empty-dirs --no-resave-data POMA StartedAt: 2025-11-10 17:22:55 -0500 (Mon, 10 Nov 2025) EndedAt: 2025-11-10 17:23:11 -0500 (Mon, 10 Nov 2025) EllapsedTime: 16.2 seconds RetCode: 0 Status: OK PackageFile: POMA_1.20.0.tar.gz PackageFileSize: 2.177 MiB