Package: PMScanR Version: 1.0.0 Command: /home/biocbuild/bbs-3.22-bioc/R/bin/R CMD INSTALL PMScanR StartedAt: 2025-11-13 15:34:52 -0500 (Thu, 13 Nov 2025) EndedAt: 2025-11-13 15:35:29 -0500 (Thu, 13 Nov 2025) EllapsedTime: 36.6 seconds RetCode: 0 Status: OK