Package: PMScanR Version: 1.0.0 Command: /Library/Frameworks/R.framework/Resources/bin/R CMD check --install=check:PMScanR.install-out.txt --library=/Library/Frameworks/R.framework/Resources/library --no-vignettes --timings PMScanR_1.0.0.tar.gz StartedAt: 2025-11-03 23:22:59 -0500 (Mon, 03 Nov 2025) EndedAt: 2025-11-03 23:27:37 -0500 (Mon, 03 Nov 2025) EllapsedTime: 277.5 seconds RetCode: 0 Status: OK CheckDir: PMScanR.Rcheck Warnings: 0