Package: PLPE Version: 1.69.0 Command: /home/biocbuild/R/R/bin/R CMD build --keep-empty-dirs --no-resave-data PLPE StartedAt: 2025-10-21 02:05:34 -0000 (Tue, 21 Oct 2025) EndedAt: 2025-10-21 02:05:43 -0000 (Tue, 21 Oct 2025) EllapsedTime: 9.0 seconds RetCode: 0 Status: OK PackageFile: PLPE_1.69.0.tar.gz PackageFileSize: 253.2 KiB