Package: PLPE Version: 1.69.0 Command: F:\biocbuild\bbs-3.22-bioc\R\bin\R.exe CMD check --no-multiarch --install=check:PLPE.install-out.txt --library=F:\biocbuild\bbs-3.22-bioc\R\library --no-vignettes --timings PLPE_1.69.0.tar.gz StartedAt: 2025-08-15 06:28:24 -0400 (Fri, 15 Aug 2025) EndedAt: 2025-08-15 06:29:04 -0400 (Fri, 15 Aug 2025) EllapsedTime: 40.6 seconds RetCode: 0 Status: OK CheckDir: PLPE.Rcheck Warnings: 0