Package: PLPE Version: 1.69.0 Command: rm -rf PLPE.buildbin-libdir && mkdir PLPE.buildbin-libdir && /Users/biocbuild/BBS/utils/build-universal.sh PLPE_1.69.0.tar.gz /Library/Frameworks/R.framework/Resources/bin/R PLPE.buildbin-libdir StartedAt: 2025-10-20 03:25:19 -0400 (Mon, 20 Oct 2025) EndedAt: 2025-10-20 03:25:26 -0400 (Mon, 20 Oct 2025) EllapsedTime: 7.0 seconds RetCode: 0 Status: OK PackageFile: PLPE_1.69.0.tgz PackageFileSize: 301.5 KiB