Package: PLPE Version: 1.69.0 Command: /Library/Frameworks/R.framework/Resources/bin/R CMD build --keep-empty-dirs --no-resave-data PLPE StartedAt: 2025-10-23 17:24:59 -0400 (Thu, 23 Oct 2025) EndedAt: 2025-10-23 17:25:04 -0400 (Thu, 23 Oct 2025) EllapsedTime: 5.1 seconds RetCode: 0 Status: OK PackageFile: PLPE_1.69.0.tar.gz PackageFileSize: 263 KiB