Package: PIUMA Version: 1.5.0 Command: /home/biocbuild/bbs-3.22-bioc/R/bin/R CMD check --install=check:PIUMA.install-out.txt --library=/home/biocbuild/bbs-3.22-bioc/R/site-library --timings PIUMA_1.5.0.tar.gz StartedAt: 2025-10-13 02:56:11 -0400 (Mon, 13 Oct 2025) EndedAt: 2025-10-13 03:00:41 -0400 (Mon, 13 Oct 2025) EllapsedTime: 269.3 seconds RetCode: 0 Status: WARNINGS CheckDir: PIUMA.Rcheck Warnings: 1