Package: PIUMA Version: 1.5.0 Command: /home/biocbuild/bbs-3.22-bioc/R/bin/R CMD build --keep-empty-dirs --no-resave-data --md5 PIUMA StartedAt: 2025-10-20 19:14:42 -0400 (Mon, 20 Oct 2025) EndedAt: 2025-10-20 19:16:04 -0400 (Mon, 20 Oct 2025) EllapsedTime: 81.1 seconds RetCode: 1 Status: ERROR PackageFile: None PackageFileSize: NA