Package: PIUMA Version: 1.5.0 Command: /Library/Frameworks/R.framework/Resources/bin/R CMD INSTALL PIUMA StartedAt: 2025-10-20 15:14:33 -0400 (Mon, 20 Oct 2025) EndedAt: 2025-10-20 15:14:45 -0400 (Mon, 20 Oct 2025) EllapsedTime: 11.2 seconds RetCode: 0 Status: OK