Package: PIUMA Version: 1.5.0 Command: /Library/Frameworks/R.framework/Resources/bin/R CMD build --keep-empty-dirs --no-resave-data PIUMA StartedAt: 2025-10-20 17:19:32 -0400 (Mon, 20 Oct 2025) EndedAt: 2025-10-20 17:20:05 -0400 (Mon, 20 Oct 2025) EllapsedTime: 33.4 seconds RetCode: 1 Status: ERROR PackageFile: None PackageFileSize: NA