Package: PIPETS Version: 1.5.0 Command: /home/biocbuild/R/R/bin/R CMD INSTALL PIPETS StartedAt: 2025-10-23 20:44:36 -0000 (Thu, 23 Oct 2025) EndedAt: 2025-10-23 20:44:50 -0000 (Thu, 23 Oct 2025) EllapsedTime: 14.6 seconds RetCode: 0 Status: OK