Package: PICB Version: 1.1.1 Command: /Library/Frameworks/R.framework/Resources/bin/R CMD INSTALL PICB StartedAt: 2025-10-02 15:16:08 -0400 (Thu, 02 Oct 2025) EndedAt: 2025-10-02 15:16:10 -0400 (Thu, 02 Oct 2025) EllapsedTime: 1.7 seconds RetCode: 0 Status: OK