Package: PICB Version: 1.1.1 Command: /Library/Frameworks/R.framework/Resources/bin/R CMD check --install=check:PICB.install-out.txt --library=/Library/Frameworks/R.framework/Resources/library --no-vignettes --timings PICB_1.1.1.tar.gz StartedAt: 2025-10-01 21:07:48 -0400 (Wed, 01 Oct 2025) EndedAt: 2025-10-01 21:11:39 -0400 (Wed, 01 Oct 2025) EllapsedTime: 231.8 seconds RetCode: 0 Status: OK CheckDir: PICB.Rcheck Warnings: 0