Package: PICB Version: 1.1.1 Command: /Library/Frameworks/R.framework/Resources/bin/R CMD build --keep-empty-dirs --no-resave-data PICB StartedAt: 2025-10-01 17:25:23 -0400 (Wed, 01 Oct 2025) EndedAt: 2025-10-01 17:26:03 -0400 (Wed, 01 Oct 2025) EllapsedTime: 39.4 seconds RetCode: 0 Status: OK PackageFile: PICB_1.1.1.tar.gz PackageFileSize: 4.678 MiB