Package: PECA Version: 1.45.0 Command: /home/biocbuild/R/R/bin/R CMD build --keep-empty-dirs --no-resave-data PECA StartedAt: 2025-10-21 02:00:39 -0000 (Tue, 21 Oct 2025) EndedAt: 2025-10-21 02:01:29 -0000 (Tue, 21 Oct 2025) EllapsedTime: 50.0 seconds RetCode: 0 Status: OK PackageFile: PECA_1.45.0.tar.gz PackageFileSize: 209.5 KiB