Package: PECA Version: 1.46.0 Command: /Library/Frameworks/R.framework/Resources/bin/R CMD check --install=check:PECA.install-out.txt --library=/Library/Frameworks/R.framework/Resources/library --no-vignettes --timings PECA_1.46.0.tar.gz StartedAt: 2025-11-10 21:34:56 -0500 (Mon, 10 Nov 2025) EndedAt: 2025-11-10 21:35:51 -0500 (Mon, 10 Nov 2025) EllapsedTime: 54.6 seconds RetCode: 0 Status: OK CheckDir: PECA.Rcheck Warnings: 0