Package: PDATK Version: 1.17.0 Command: /home/biocbuild/R/R/bin/R CMD build --keep-empty-dirs --no-resave-data PDATK StartedAt: 2025-10-21 01:59:32 -0000 (Tue, 21 Oct 2025) EndedAt: 2025-10-21 02:02:10 -0000 (Tue, 21 Oct 2025) EllapsedTime: 158.1 seconds RetCode: 0 Status: OK PackageFile: PDATK_1.17.0.tar.gz PackageFileSize: 1.926 MiB