Package: PCAN Version: 1.37.0 Command: /home/biocbuild/R/R/bin/R CMD INSTALL PCAN StartedAt: 2025-10-20 20:12:39 -0000 (Mon, 20 Oct 2025) EndedAt: 2025-10-20 20:13:18 -0000 (Mon, 20 Oct 2025) EllapsedTime: 39.0 seconds RetCode: 0 Status: OK