Package: PCAN Version: 1.37.0 Command: /Library/Frameworks/R.framework/Resources/bin/R CMD check --install=check:PCAN.install-out.txt --library=/Library/Frameworks/R.framework/Resources/library --no-vignettes --timings PCAN_1.37.0.tar.gz StartedAt: 2025-10-21 00:38:25 -0400 (Tue, 21 Oct 2025) EndedAt: 2025-10-21 00:43:04 -0400 (Tue, 21 Oct 2025) EllapsedTime: 278.5 seconds RetCode: 0 Status: OK CheckDir: PCAN.Rcheck Warnings: 0